BEGIN:VCALENDAR
PRODID:-//Det Danske Spejderkorps//NONSGML Gruppeweb//EN
VERSION:2.0
CALSCALE:GREGORIAN
X-PUBLISHED-TTL:PT1H
X-WR-CALNAME:Hammershus Spejderne
METHOD:PUBLISH
BEGIN:VEVENT
UID:gruppeweb.dk:1501:event:13
DTSTAMP:20260422T123448Z
LAST-MODIFIED:20250406T072430Z
SUMMARY:Burgundia-tur
DESCRIPTION:Vi er blevet indbudt til den store fælles Burgundia-tur igen i
  år\, og det  \nbliver så sjovt!\n\nBurgundia-turen er for alle spejdere
  på Bornholm\, på tværs af korpsene.  \nSå vi kommer måske til at mø
 de både grønne og gule spejdere\, og måske  \nfå nye venner.\n\nDa det
  er en stor fællestur\, hvor vi ikke kender den specifikke plan\, er det 
  \naf praktiske hensyn ikke muligt at møde senere eller blive hentet før
  tid.\n\n\nPraktisk info:\n\nHvor: Rømeregård\, Rømeregårdsvej 54\, Å
 rsballe\, 3700 Rønne\n\nHvornår: Lørdag d. 3/5 kl 13.00 til 20.30.\n\nP
 ris: 75 kr.\n\nTilmeldingsfrist: 22. april.\n\n\nMedbring:\n\n- Tallerken\
 , både flad og dyb\n\n- Bestik\n\n- Krus/kop/glas\n\n- Viskestykke\n\nOg 
 husk at være påklædt til vejret. Vi skal være ude hele tiden.\n\n\nVi 
 glæder os til at komme på tur med jer!\n\nFriske spejderhilsner\n\nLeder
 ne i Hammershus gruppe\n\n
URL:https://hammershusspejderne.dk/begivenhed/burgundia-tur
DTSTART:20250503T110000Z
DTEND:20250503T183000Z
LOCATION:Hammershus Spejderne\, Stadionvej 4\, Allinge\, 3770 Allinge
END:VEVENT
BEGIN:VEVENT
UID:gruppeweb.dk:1501:event:14
DTSTAMP:20260422T123448Z
LAST-MODIFIED:20250710T185638Z
SUMMARY:Sommerlejr - 2025
DESCRIPTION:\n\n\nHammershusspejderne tager på sommerlejr\n\n \n\nNu er d
 et sommer og vi kan da ikke vente helt til efteråret\nmed at mødes. Derf
 or skal vi på en lille spejderlejr!\n\nVi skal sove i telt\, lave mad på
  bål og bruge mange af de\nfærdigheder vi har lært til spejdermøderne.
 \n\nVi mødes lørdag d. 12. juli kl. 9:00 på Sømarken lejrplads.\nHer s
 kal vi rejse telte og udforske området. Søndag skal vi bygge med  \nraft
 er\,\nmen nok også se om vi kan finde stranden. Mandag skal vi lave snobr
 ødspinde  \nog\n-dej og bål. Fra klokken 14:00 er forældre og søskende
  velkomne til at  \nkomme og\nhøre om turen og lave et snobrød inden vi 
 slutter af kl. 16:00.\n\nDet bliver hyggeligt!\n\n \n\nFriske spejder hil
 sner\n\nLederne\n\n\n\n\nPakkeliste\n * Sovepose\n   \n * Liggeunderlag\n 
   \n * Sovebamse\n   \n * Evt. hovedpude\n   \n * Nattøj\n   \n * 1 sæt 
 skiftetøj\n   \n * Varm trøje\n   \n * Regntøj\n   \n * Sko/sandaler/gu
 mmistøvler\n   \n * Håndklæde\n   \n * Bestikgrej (i bestikpose)\n   \n
  * Viskestykke\n   \n * Uniform og tørklæde\n   \n\n
URL:https://hammershusspejderne.dk/begivenhed/sommerlejr-2025
DTSTART:20250712T070000Z
DTEND:20250714T140000Z
LOCATION:Sømarken Lejrplads\, Ædjavejen 6\, 3720 Aakirkeby
END:VEVENT
BEGIN:VEVENT
UID:gruppeweb.dk:1501:event:16
DTSTAMP:20260422T123448Z
LAST-MODIFIED:20250825T103444Z
SUMMARY:Nat i naturen - Christiansø
DESCRIPTION:Vi tager til Christiansø og møder de spejdere der er der til 
 en spændende  \nNat i Naturen.\n\nVi mødes ved båden til Christiansø k
 l 09:30\, hvorfra vi sejler til  \nChristiansø\n\nVi skal rundt og udfors
 ke øerne\, etablere lejrplads og overnatte i telt.\n\n\nHer er et link ti
 l arrangementet:  \nhttps://natinaturen.dk/arrangementer/nat-naturpark-chr
 istiansoe\n\n\nTaske skal pakkes til en overnatning i telt\, tøj til vejr
 et\, spisegrej og  \nskiftetøj.\n\n\nDa vi skal med færge\, som skal boo
 kes er tilmeldingsfristen allerede fredag  \nd. 22/8.\n\n\nDet bliver drø
 n fedt!\n\n\nFriske spejderhilsner\n\nMatthias\n\n
URL:https://hammershusspejderne.dk/begivenhed/nat-i-naturen-christiansoe
DTSTART:20250906T073000Z
DTEND:20250907T130000Z
LOCATION:Gudhjem havn\, Ejnar Mikkelsensvej 25\, 3760 Gudhjem
END:VEVENT
BEGIN:VEVENT
UID:gruppeweb.dk:1501:event:17
DTSTAMP:20260422T123448Z
LAST-MODIFIED:20251027T154021Z
SUMMARY:Efterårets mærkeweekend for de STORE
DESCRIPTION:\nHej Junior\n\nDer vil blive afholdt mærkeweekend den 7/11 kl
  1700 til 9/11 kl 1300\n\nFørste halvdel er vi sammen med de SMÅ og tage
 r tilfældigmærket og  \nromkuglemærket\, men fra lørdag kl 1100 går v
 i for os selv.\n\nDer kan tages 1 af følgende mærker:\n\n24 timer i sove
 pose\n\n24 timer vågen\n\nDerud over skal vi på 5 km nat tur og vi skal 
 på næste møde\nvælge hvilket af 3 mad mærker vi skal tage\,\n\nM.v.h.
 \n\nJesper\n\n\nTilmelding senest d. 5. november.\n\n \n\nHvor: Spejderhy
 tten\n\nHvornår: Fredag d. 7. november kl. 17:00 til søndag d. 9. novemb
 er kl.  \n13:00.\n\nHvor meget: 150 kr\n\nHvad skal jeg have med:\n\n- 1 s
 æt skiftetøj\n\n- 1 varm trøje\n\n- 1 sæt nattøj\n\n- Regntøj og gum
 mistøvler\n\n- Sovepose\n\n- Hovedpude\n\n- Evt. 1 Sovebamse\n\n- Lommely
 gte\n\n- Toiletgrej (mindst tandbørste og tandpasta)\n\n- Spisegrej\n\n- 
 Viskestykke\n\n- Medbring gerne kagerester til romkuglerne\n\n\n
URL:https://hammershusspejderne.dk/begivenhed/efteraarets-maerkeweekend-de-
 store
DTSTART:20251107T160000Z
DTEND:20251109T120000Z
LOCATION:Hammershus Spejderne\, Stadionvej 4\, Allinge\, 3770 Allinge
END:VEVENT
BEGIN:VEVENT
UID:gruppeweb.dk:1501:event:18
DTSTAMP:20260422T123448Z
LAST-MODIFIED:20251106T085119Z
SUMMARY:Efterårets mærketur for de SMÅ
DESCRIPTION:Vi skal på tur og tage en masse fede mærker!\n\nVi starter fr
 edag sammen med de STORE\, hvor vi sammen starter med at tage  \ntilfældi
 g-mærket. Efter aftensmaden skal vi lære om madspild ved at tage  \nromk
 ugle-mærket.\n\nLørdag formiddag smutter de STORE for at laver deres egn
 e aktiviteter\, men  \nså skal vi tage lakridspipemærket inden vi færdi
 ggør tilfældig-mærket  \nog afslutter turen kl 16:00.\n\n\nTilmelding s
 enest d. 5. november.\n\n\nFriske spejderhilsner\n\nLederne\n\n\nHvor: Spe
 jderhytten\n\nHvornår: Fredag d. 7. november kl. 17:00 til lørdag d. 8. 
 november kl.  \n16:00.\n\nHvor meget: 75 kr\n\nHvad skal jeg have med:\n\n
 - 1 sæt skiftetøj\n\n- 1 varm trøje\n\n- 1 sæt nattøj\n\n- Regntøj o
 g gummistøvler\n\n- Sovepose\n\n- Hovedpude\n\n- 1 Sovebamse\n\n- Lommely
 gte\n\n- Toiletgrej (mindst tandbørste og tandpasta)\n\n- Spisegrej\n\n- 
 Viskestykke\n\n- Medbring gerne kagerester til romkuglerne\n\n
URL:https://hammershusspejderne.dk/begivenhed/efteraarets-maerketur-de-smaa
DTSTART:20251107T160000Z
DTEND:20251108T150000Z
LOCATION:Hammershus Spejderne\, Stadionvej 4\, Allinge\, 3770 Allinge
END:VEVENT
BEGIN:VEVENT
UID:gruppeweb.dk:1501:event:19
DTSTAMP:20260422T123448Z
LAST-MODIFIED:20260120T072630Z
SUMMARY:Burgundia-tur - SMÅ
DESCRIPTION:Hej Familiespejd - Spirer – Bævere – \nSmutter og Ulveung
 er! \n \nNu skal alle spejderne på Bornholm igen på  BURGUNDIA-TUR! 
 \n\nLørdag\, den 7. februar 2026 \n\nVi mødes Kl. 13 ved Klemensker kir
 kes P-plads\, hvor Klemensker KFUM  \nspejderhus ligger. \nMen vi slutter
  kl. 19 ved Klemensker Børnehus\, Industrivej 6\, Klemensker. \n\nDet ko
 ster kr. 60\,00 at deltage. tilmeldingsfristen er d. 22. januar.  \nEftert
 ilmelding ikke muligt. \n\nEn spejder er en frisk pige eller dreng\, som 
 kan klare det meste – måske  \nsomme tider med lidt \nhjælp fra en vo
 ksen. Vi skal være udendørs en del af tiden – lave ting  \npå bålet 
 – men vi skal også \nvære indendørs. Hvis det regner\, vil vi være 
 mest indendørs. \n \nTil slut skal vi selvfølgelig have lejrbål – I
 ndendørs i varmen\, men det  \nskal nok blive sjovt\, - for \nher skal I
  invitere Jeres familie med. De skal komme kl. 18.15. \nVi slutter lejrb
 ålet kl. 19\, og så er vi klar til at tage hjem. \n \nDu skal medbring
 e: Varmt regntæt tøj til udendørs leg og aktiviteter\, evt.  \nmindre l
 ygte. \nDette skal du IKKE have med: Penge – mobil – smykker – spis
 egrej. \n \nVi glæder os til at se dig i Klemensker – det bliver sjov
 t!  \nMed spejderhilsen\,  \nDe bornholmske Spejderledere og Sct.Georg
 s Gildet \n\n
URL:https://hammershusspejderne.dk/begivenhed/burgundia-tur-smaa
DTSTART:20260207T120000Z
DTEND:20260207T180000Z
LOCATION:Klemensker Kirke\, Bedegadevej 1\, 3782 Klemensker
END:VEVENT
BEGIN:VEVENT
UID:gruppeweb.dk:1501:event:20
DTSTAMP:20260422T123448Z
LAST-MODIFIED:20260120T073716Z
SUMMARY:Frostkongens Klemensker   - Burgundialøbet - STORE
DESCRIPTION:\n\nKalder\, spejdere på hele Burgundia\n\n \n\nVinteren\ner 
 her og mørket vågner!\n\nMidt\npå øen\, hvor kulden møder mørket\, h
 ar Frostkongen rejst sig fra sit  \niskolde\nrige. Hans kølige ensomhed\,
  rimtåge og tavshed kravler hen over øen.  \nLegenden\nfortæller\, at k
 un dem\, der tør møde vinterens prøvelser\, kan vinde  \nFrostkongens\n
 respekt\, bringe sammenholdets varme tilbage og tænde lyset i mørket.\n\
 nDerfor\nindkaldes alle modige spejdere til “Frostkongens Udfordring”!
  I skal  \nkæmpe jer\ngennem kulde\, vand og mørke\, øse kongens gåder
  og bevise\, at I kan stå  \nfast og\nsammen – selv når kulden bider. 
 Husk: når vandet fryser til\, står kun de\nstærkeste sammen.\n\n*Tid og
  sted:* BurgundiaLøbet udfordrer alle spejdere fra ulv til klan.  \nDerfo
 r er\nmødetid og udfordringer forskellige. for Klan\, trop og junior genn
 emføres  \nløbet\ni Patruljer eller sjak\n***\n*\n\n\n\n*Trop & Junior s
 pejdere: * Lørdag d.\n7. februar 2026 kl. 13.00 - søndag d. 8. februar 
 kl. 10.00\, ankomst og\novernatning Præstemosen\, Fabriksvej\, \nKlemens
 ker. Overnatning: telt. pris: 150\,- kr.* *betales til din\nleder.\n\n\n*T
 ilmelding: Via betaling\, senest den 22. januar 2026 og til din leder.*\n\
 nSå\nsaml dine kampfæller\, pust liv i jeres fakler og forbered jer til 
 et iskoldt\neventyr.\nFrostkongen venter – og kun de tapreste vil stå s
 ejrende tilbage!\n\nVi\nses ude i vinteren\nBurgundia Planlægnings Gruppe
 : DDS 1.Rønne\, DDS Hammershus & DDS\nVestermarie\n\n\n*-\nPakkeliste –
  Vinterovernatning -*\n\n*Det du får brug for på turen: Husk at pakke se
 lv! *\n\n*\n*\n \n\nDet er en *Vinter -TUR *og selv om vi er i Danmark\, 
 kan\ndet blive koldt især om natten. Skriv navn på dine ting. Spejdere h
 ar ting\,  \nder\ner ens eller ligner meget hinanden.\n\n* *\n\n*\n*\n*M
 ød op I? -uniform og tørklæde*\n\n*\n*\nVi skal gå. Det får man varme
 n af.\n\nDet er godt at have tøj til at tage på/skifte til når vi er fr
 emme.Det\nbliver koldere om aftenen.\n\nGode sko/støvler der sidder fast 
 på foden.\n\n \n\n*Medbring - på kroppen eller i tasken:*\n\n*Underste 
 lag* - Skiundertøj – gerne uld\n\n*Mellemlag*: uniformsjakke\, trøje\,
  bukser (flis/strik)\n\n*Skallag*: Overtræksbukser og jakke (vind og vand
 tæt -\nalm. regnbukser kan  meget)\n\n*Støvler/sko til vejret*: vandafv
 isende\n\n*hue\, vanter (gerne to par)*\, halsedisse\,\n\n* *\n\n*Til vin
 tertur.*\n\n●       hue\, vanter\, halsedisse\,\n\n●      
  Nattøj + Uldsokker\n\n●       Sovepose (måske inder-pose)\n\n
 ●       Liggeunderlag.\n\n●       Bamse i handy størrelse
 \n\n●       Toiletgrej: \ntandbørste\, tandpasta mm. Lille hånd
 klæde\n\n●       Et sæt skiftetøj (inderst og mellemlag)\n\n●
        Skifte sko/støvler\n\n \n\n* *\n\n**\n\n*Spejdergrej:*\n\n
 ●       Pandelygte\n\n●       Lommelygte (med nye batterie
 r). det bliver\nhurtigt MEGET mørkt.\n\n●       Hvis haves: Dolk\
 , ildstål\, kompas\, bålkappe\n\n \n\n*Til spisning*\n\n●      
  Spisegrej (dyb\, flad tallerken\, ske\, kniv\,\ngaffel)\n\n●     
   Drikkedunk\n\n●       Viskestykke med navn\n\n \n\n*En Turtask
 e\nper. patrulje: Klan\, trop\, junior med:*\n\n●      \nEt stykke
  tørt brænde\n\n●      \nto rå æg\n\n●      \nen knibt
 ang\n\n●      \npapir og blyant\n\n●      \nen bamse\n\n
 ●      \nen pind på 50 cm\n\n \n\n \n\n\n\n\n\n\n
URL:https://hammershusspejderne.dk/begivenhed/frostkongens-klemensker-burgu
 ndialoebet-store
DTSTART:20260207T120000Z
DTEND:20260208T090000Z
LOCATION:Klemensker Kirke\, Bedegadevej 1\, 3782 Klemensker
END:VEVENT
BEGIN:VEVENT
UID:gruppeweb.dk:1501:event:23
DTSTAMP:20260422T123448Z
LAST-MODIFIED:20260401T182536Z
SUMMARY:Spejdermarchen - 105 km
DESCRIPTION:Sammen med Torben skal alle marchens 105 km nydes over 3 dage.\
 n\nVi skal sove i telt\, men alt udstyr bliver heldigvis kørt for os og d
 er er  \nvandpost hver femte km.\n\nTasken skal derfor pakkes med sovepose
  og liggeunderlag\, samt skiftetøj\,  \ntoiletgrej og spisegrej.\n\nTuren
  starter og slutter på Galløkken ved Rønne Vandrehjem.\n\n\nMan kan læ
 se lidt mere på marchens hjemmeside:  \nhttps://spejdermarchenbornholmrun
 dt.nemtilmeld.dk/2/ \n\n
URL:https://hammershusspejderne.dk/begivenhed/spejdermarchen-105-km
DTSTART:20260522T125000Z
DTEND:20260524T180000Z
LOCATION:Hammershus Spejderne\, Stadionvej 4\, Allinge\, 3770 Allinge
END:VEVENT
BEGIN:VEVENT
UID:gruppeweb.dk:1501:event:24
DTSTAMP:20260422T123448Z
LAST-MODIFIED:20260401T183841Z
SUMMARY:Spejdermarchen - 10 km
DESCRIPTION:Sammen med Matthias går vi fra Galløkken ved Rønne Vandrehje
 m til Hasle  \nFælled og gør os fortjent til et 10 km mærke.\n\nDer er 
 vandposter hele vejen\, men husk godt fortøj og tøj\, der passer til  \n
 vejret.\n\n\nMan kan også læse lidt mere på Marchens hjemmeside:  \nhtt
 ps://spejdermarchenbornholmrundt.nemtilmeld.dk/2/\n\n\n
URL:https://hammershusspejderne.dk/begivenhed/spejdermarchen-10-km
DTSTART:20260522T125000Z
DTEND:20260522T160000Z
LOCATION:Hammershus Spejderne\, Stadionvej 4\, Allinge\, 3770 Allinge
END:VEVENT
BEGIN:VEVENT
UID:gruppeweb.dk:1501:event:21
DTSTAMP:20260422T123448Z
LAST-MODIFIED:20260207T094801Z
SUMMARY:Spejdernes lejr 2026 - Eftertilmelding
DESCRIPTION:Spejdernes Lejr 2026 er den tilbagevendende landslejr for alle\
 nspejderkorps i Danmark.\nI år afholdes lejren i Hedeland\, lige uden for
 \nRoskilde.\nVi deltager selvfølgelig også i lejren.\nUnder lejren skal 
 spejderne sove i telt\, lave deres egen mad\, deltage i\naktiviteter\, opl
 eve fællesskabet og møde nye venner – både fra Danmark\nog fra andre 
 lande.\nSpejdernes Lejr giver en helt særlig mulighed for at opleve\, hvi
 lket\nfællesskab man er en del af som spejder\, og det er en stor og posi
 tiv\noplevelse for børnene.\nTilmeldingen gælder for hele ugen og er bin
 dende.\nDet er derfor som\nudgangspunkt ikke muligt for spejdere at tage h
 jem før lejren slutter.\nSkulle der opstå særlige omstændigheder\, ell
 er hvis et barn får så meget\n  hjemvé\, at spejderen ikke kan blive p
 å lejren\, er det forældrenes\nansvar at hente barnet.\nPakkelister og y
 derligere praktisk information udsendes\, når vi kommer\ntættere på lej
 ren.\n
URL:https://hammershusspejderne.dk/begivenhed/spejdernes-lejr-2026-eftertil
 melding
DTSTART:20260718T060000Z
DTEND:20260726T160000Z
LOCATION:Hammershus Spejderne\, Stadionvej 4\, Allinge\, 3770 Allinge
END:VEVENT
BEGIN:VEVENT
UID:gruppeweb.dk:1501:event:22
DTSTAMP:20260422T123448Z
LAST-MODIFIED:20260207T094804Z
SUMMARY:Spejdernes lejr 2026
DESCRIPTION:Spejdernes Lejr 2026 er den tilbagevendende landslejr for alle\
 nspejderkorps i Danmark.\nI år afholdes lejren i Hedeland\, lige uden for
 \nRoskilde.\nVi deltager selvfølgelig også i lejren.\nUnder lejren skal 
 spejderne sove i telt\, lave deres egen mad\, deltage i\naktiviteter\, opl
 eve fællesskabet og møde nye venner – både fra Danmark\nog fra andre 
 lande.\nSpejdernes Lejr giver en helt særlig mulighed for at opleve\, hvi
 lket\nfællesskab man er en del af som spejder\, og det er en stor og posi
 tiv\noplevelse for børnene.\nTilmeldingen gælder for hele ugen og er bin
 dende.\nDet er derfor som\nudgangspunkt ikke muligt for spejdere at tage h
 jem før lejren slutter.\nSkulle der opstå særlige omstændigheder\, ell
 er hvis et barn får så meget\n  hjemvé\, at spejderen ikke kan blive p
 å lejren\, er det forældrenes\nansvar at hente barnet.\nPakkelister og y
 derligere praktisk information udsendes\, når vi kommer\ntættere på lej
 ren.\n
URL:https://hammershusspejderne.dk/begivenhed/spejdernes-lejr-2026
DTSTART:20260718T060000Z
DTEND:20260726T160000Z
LOCATION:Hammershus Spejderne\, Stadionvej 4\, Allinge\, 3770 Allinge
END:VEVENT
END:VCALENDAR
